BEGIN:VCALENDAR
VERSION:2.0
PRODID:-//Franklin-Springboro Public Library - ECPv6.15.20//NONSGML v1.0//EN
CALSCALE:GREGORIAN
METHOD:PUBLISH
X-WR-CALNAME:Franklin-Springboro Public Library
X-ORIGINAL-URL:https://www.fspl.org
X-WR-CALDESC:Events for Franklin-Springboro Public Library
REFRESH-INTERVAL;VALUE=DURATION:PT1H
X-Robots-Tag:noindex
X-PUBLISHED-TTL:PT1H
BEGIN:VTIMEZONE
TZID:America/Detroit
BEGIN:DAYLIGHT
TZOFFSETFROM:-0500
TZOFFSETTO:-0400
TZNAME:EDT
DTSTART:20250309T070000
END:DAYLIGHT
BEGIN:STANDARD
TZOFFSETFROM:-0400
TZOFFSETTO:-0500
TZNAME:EST
DTSTART:20251102T060000
END:STANDARD
BEGIN:DAYLIGHT
TZOFFSETFROM:-0500
TZOFFSETTO:-0400
TZNAME:EDT
DTSTART:20260308T070000
END:DAYLIGHT
BEGIN:STANDARD
TZOFFSETFROM:-0400
TZOFFSETTO:-0500
TZNAME:EST
DTSTART:20261101T060000
END:STANDARD
BEGIN:DAYLIGHT
TZOFFSETFROM:-0500
TZOFFSETTO:-0400
TZNAME:EDT
DTSTART:20270314T070000
END:DAYLIGHT
BEGIN:STANDARD
TZOFFSETFROM:-0400
TZOFFSETTO:-0500
TZNAME:EST
DTSTART:20271107T060000
END:STANDARD
END:VTIMEZONE
BEGIN:VEVENT
DTSTART;TZID=America/Detroit:20261210T173000
DTEND;TZID=America/Detroit:20261210T183000
DTSTAMP:20260421T034159
CREATED:20260320T161839Z
LAST-MODIFIED:20260320T163241Z
UID:10001417-1796923800-1796927400@www.fspl.org
SUMMARY:Library Board of Trustees Meeting (Springboro)
DESCRIPTION:Location: Springboro Branch\, Garland Conference Room \nAll meetings are open to the public.
URL:https://www.fspl.org/event/library-board-of-trustees-meeting-springboro-3/
LOCATION:Springboro Library\, 125 Park Lane\, Springboro\, OH\, 45066\, United States
END:VEVENT
BEGIN:VEVENT
DTSTART;TZID=America/Detroit:20261217T180000
DTEND;TZID=America/Detroit:20261217T193000
DTSTAMP:20260421T034159
CREATED:20260409T162916Z
LAST-MODIFIED:20260409T162916Z
UID:10001439-1797530400-1797535800@www.fspl.org
SUMMARY:ESOL Conversational English Class (Springboro)
DESCRIPTION:Join us every third Thursday for an ESOL conversation class led by WCCC Literacy Connections. This class provides time to practice English conversation in a friendly\, supportive group environment. Register at the Library to be added to the group chat\, discussion questions will be sent ahead of time by the tutor. Ages 18 and up.
URL:https://www.fspl.org/event/esol-conversational-english-class-springboro-5/
LOCATION:Springboro Library\, 125 Park Lane\, Springboro\, OH\, 45066\, United States
CATEGORIES:Adult Programs
ATTACH;FMTTYPE=image/jpeg:https://www.fspl.org/wp-content/uploads/2026/03/adult-jpg.jpg
END:VEVENT
END:VCALENDAR