BEGIN:VCALENDAR
VERSION:2.0
PRODID:-//Franklin-Springboro Public Library - ECPv6.15.20//NONSGML v1.0//EN
CALSCALE:GREGORIAN
METHOD:PUBLISH
X-ORIGINAL-URL:https://www.fspl.org
X-WR-CALDESC:Events for Franklin-Springboro Public Library
REFRESH-INTERVAL;VALUE=DURATION:PT1H
X-Robots-Tag:noindex
X-PUBLISHED-TTL:PT1H
BEGIN:VTIMEZONE
TZID:America/Detroit
BEGIN:DAYLIGHT
TZOFFSETFROM:-0500
TZOFFSETTO:-0400
TZNAME:EDT
DTSTART:20250309T070000
END:DAYLIGHT
BEGIN:STANDARD
TZOFFSETFROM:-0400
TZOFFSETTO:-0500
TZNAME:EST
DTSTART:20251102T060000
END:STANDARD
BEGIN:DAYLIGHT
TZOFFSETFROM:-0500
TZOFFSETTO:-0400
TZNAME:EDT
DTSTART:20260308T070000
END:DAYLIGHT
BEGIN:STANDARD
TZOFFSETFROM:-0400
TZOFFSETTO:-0500
TZNAME:EST
DTSTART:20261101T060000
END:STANDARD
BEGIN:DAYLIGHT
TZOFFSETFROM:-0500
TZOFFSETTO:-0400
TZNAME:EDT
DTSTART:20270314T070000
END:DAYLIGHT
BEGIN:STANDARD
TZOFFSETFROM:-0400
TZOFFSETTO:-0500
TZNAME:EST
DTSTART:20271107T060000
END:STANDARD
END:VTIMEZONE
BEGIN:VEVENT
DTSTART;TZID=America/Detroit:20260324T093000
DTEND;TZID=America/Detroit:20260324T100000
DTSTAMP:20260420T224102
CREATED:20260227T181752Z
LAST-MODIFIED:20260303T192230Z
UID:10001398-1774344600-1774346400@www.fspl.org
SUMMARY:Kindergarten Storytime (Springboro)
DESCRIPTION:A special once-a-month Kindergarten Storytime is being added to the schedule for February\, March\, and April. It will include songs\, stories\, and activities designed to emphasize the skills your child is developing at school. Plus\, it will be a ton of fun! Ages 5-6 (anyone in kindergarten). No registration required.
URL:https://www.fspl.org/event/kindergarten-storytime-springboro/
LOCATION:Springboro Library\, 125 Park Lane\, Springboro\, OH\, 45066\, United States
CATEGORIES:Storytimes
END:VEVENT
BEGIN:VEVENT
DTSTART;TZID=America/Detroit:20260323T113000
DTEND;TZID=America/Detroit:20260323T120000
DTSTAMP:20260420T224102
CREATED:20260227T170332Z
LAST-MODIFIED:20260327T164440Z
UID:10001345-1774265400-1774267200@www.fspl.org
SUMMARY:Preschool Storytime (Springboro)
DESCRIPTION:Preschool storytime will be held at 11:30 a.m. Mondays\, January 5 – April 13\, at the Springboro Branch. \nPreschool storytime is a 30- to 45-minute early literacy program that includes songs\, rhymes\, stories\, and an process art activity or craft. \nPreschool storytime is recommended for children ages 3-5 years. It helps build pre-literacy skills and foster children’s love of books!
URL:https://www.fspl.org/event/preschool-storytime-springboro-3/2026-03-23/
LOCATION:Springboro Library\, 125 Park Lane\, Springboro\, OH\, 45066\, United States
CATEGORIES:Storytimes
ATTACH;FMTTYPE=image/jpeg:https://www.fspl.org/wp-content/uploads/2026/03/storytime.jpg
END:VEVENT
BEGIN:VEVENT
DTSTART;TZID=America/Detroit:20260323T103000
DTEND;TZID=America/Detroit:20260323T110000
DTSTAMP:20260420T224102
CREATED:20260227T170132Z
LAST-MODIFIED:20260327T192520Z
UID:10001339-1774261800-1774263600@www.fspl.org
SUMMARY:Toddler Storytime (Springboro)
DESCRIPTION:Toddler storytime will be held at 10:30 a.m. Mondays\, January 5 – April 13\, at the Springboro Branch. \nToddler storytime is a 25- to 30-minute early literacy program that includes activities like songs\, rhymes\, and stories. \nToddler storytime is recommended for children ages 18 months to 3 years. It helps build pre-literacy skills and foster children’s love of books!
URL:https://www.fspl.org/event/toddler-storytime-springboro-5/2026-03-23/
LOCATION:Springboro Library\, 125 Park Lane\, Springboro\, OH\, 45066\, United States
CATEGORIES:Storytimes
ATTACH;FMTTYPE=image/jpeg:https://www.fspl.org/wp-content/uploads/2026/03/storytime.jpg
END:VEVENT
BEGIN:VEVENT
DTSTART;TZID=America/Detroit:20260323T093000
DTEND;TZID=America/Detroit:20260323T100000
DTSTAMP:20260420T224102
CREATED:20260227T165321Z
LAST-MODIFIED:20260327T164552Z
UID:10001281-1774258200-1774260000@www.fspl.org
SUMMARY:Baby Storytime (Springboro)
DESCRIPTION:Baby storytime will be held at 9:30 a.m. Mondays\, January 5 – April 13\, at the Springboro Branch. \nBaby storytime is a 25-minute early literacy program that includes songs\, rhymes\, stories\, toys\, and bubbles. \nBaby storytime is recommended for children ages 6-18 months.
URL:https://www.fspl.org/event/baby-storytime-springboro-3/2026-03-23/
LOCATION:Springboro Library\, 125 Park Lane\, Springboro\, OH\, 45066\, United States
CATEGORIES:Storytimes
ATTACH;FMTTYPE=image/jpeg:https://www.fspl.org/wp-content/uploads/2026/03/storytime.jpg
END:VEVENT
BEGIN:VEVENT
DTSTART;TZID=America/Detroit:20260319T183000
DTEND;TZID=America/Detroit:20260319T193000
DTSTAMP:20260420T224102
CREATED:20260227T181233Z
LAST-MODIFIED:20260327T163857Z
UID:10001393-1773945000-1773948600@www.fspl.org
SUMMARY:Family Storytime (Springboro)
DESCRIPTION:Family storytime will be held at 6:30 p.m. Thursdays\, January 8 – April 16\, at the Springboro Branch. \nFamily storytime is a 30- to 45-minute early literacy program that includes songs\, rhymes\, stories\, and an art activity or craft. \nMost activities are designed for toddlers and preschool-age children\, but children of all ages are invited to attend family storytime. The activities will help build pre-literacy skills and foster children’s love of books!
URL:https://www.fspl.org/event/family-storytime-springboro-2/2026-03-19/
LOCATION:Springboro Library\, 125 Park Lane\, Springboro\, OH\, 45066\, United States
CATEGORIES:Storytimes
ATTACH;FMTTYPE=image/jpeg:https://www.fspl.org/wp-content/uploads/2026/03/storytime.jpg
END:VEVENT
BEGIN:VEVENT
DTSTART;TZID=America/Detroit:20260319T170000
DTEND;TZID=America/Detroit:20260319T180000
DTSTAMP:20260420T224102
CREATED:20260227T163015Z
LAST-MODIFIED:20260227T163459Z
UID:10001270-1773939600-1773943200@www.fspl.org
SUMMARY:Book Buzz (Springboro)
DESCRIPTION:Join the book club for readers in second and third grade. Get the chosen book at the library\, read it at home\, and come to the meeting for fun activities. Caregivers must remain in the library throughout the program. For the March meeting\, we are reading Mr. Cooper is Super by Dan Gutman. The book will be available for checkout from the Springboro Branch by March 5. If you’d prefer to pick up the book from the Franklin Branch\, let us know and we’ll send a copy to the Franklin Branch for you. Ages 7-9\, no registration required.
URL:https://www.fspl.org/event/book-buzz-springboro/
LOCATION:Springboro Library\, 125 Park Lane\, Springboro\, OH\, 45066\, United States
CATEGORIES:Children's Programs
END:VEVENT
BEGIN:VEVENT
DTSTART;TZID=America/Detroit:20260319T113000
DTEND;TZID=America/Detroit:20260319T120000
DTSTAMP:20260420T224102
CREATED:20260227T180527Z
LAST-MODIFIED:20260327T192218Z
UID:10001387-1773919800-1773921600@www.fspl.org
SUMMARY:Preschool Storytime (Springboro)
DESCRIPTION:Preschool storytime will be held at 11:30 a.m. Thursdays\, January 8 – April 16\, at the Springboro Branch. \nPreschool storytime is a 30- to 45-minute early literacy program that includes songs\, rhymes\, stories\, and an process art activity or craft. \nPreschool storytime is recommended for children ages 3-5 years. It helps build pre-literacy skills and foster children’s love of books!
URL:https://www.fspl.org/event/preschool-storytime-springboro-4/2026-03-19/
LOCATION:Springboro Library\, 125 Park Lane\, Springboro\, OH\, 45066\, United States
CATEGORIES:Storytimes
ATTACH;FMTTYPE=image/jpeg:https://www.fspl.org/wp-content/uploads/2026/03/storytime.jpg
END:VEVENT
BEGIN:VEVENT
DTSTART;TZID=America/Detroit:20260319T103000
DTEND;TZID=America/Detroit:20260319T110000
DTSTAMP:20260420T224102
CREATED:20260227T172852Z
LAST-MODIFIED:20260327T192549Z
UID:10001380-1773916200-1773918000@www.fspl.org
SUMMARY:Toddler Storytime (Springboro)
DESCRIPTION:Toddler storytime will be held at 10:30 a.m. Thursdays\, January 8 – April 16\, at the Springboro Branch. \nToddler storytime is a 25- to 30-minute early literacy program that includes activities like songs\, rhymes\, and stories. \nToddler storytime is recommended for children ages 18 months to 3 years. It helps build pre-literacy skills and foster children’s love of books!
URL:https://www.fspl.org/event/toddler-storytime-springboro-7/2026-03-19/
LOCATION:Springboro Library\, 125 Park Lane\, Springboro\, OH\, 45066\, United States
CATEGORIES:Storytimes
ATTACH;FMTTYPE=image/jpeg:https://www.fspl.org/wp-content/uploads/2026/03/storytime.jpg
END:VEVENT
BEGIN:VEVENT
DTSTART;TZID=America/Detroit:20260319T093000
DTEND;TZID=America/Detroit:20260319T100000
DTSTAMP:20260420T224102
CREATED:20260227T172524Z
LAST-MODIFIED:20260327T192537Z
UID:10001374-1773912600-1773914400@www.fspl.org
SUMMARY:Toddler Storytime (Springboro)
DESCRIPTION:Toddler storytime will be held at 9:30 a.m. Thursdays\, January 8 – April 16\, at the Springboro Branch. \nToddler storytime is a 25- to 30-minute early literacy program that includes activities like songs\, rhymes\, and stories. \nToddler storytime is recommended for children ages 18 months to 3 years. It helps build pre-literacy skills and foster children’s love of books!
URL:https://www.fspl.org/event/toddler-storytime-springboro-6/2026-03-19/
LOCATION:Springboro Library\, 125 Park Lane\, Springboro\, OH\, 45066\, United States
CATEGORIES:Storytimes
ATTACH;FMTTYPE=image/jpeg:https://www.fspl.org/wp-content/uploads/2026/03/storytime.jpg
END:VEVENT
BEGIN:VEVENT
DTSTART;TZID=America/Detroit:20260316T113000
DTEND;TZID=America/Detroit:20260316T120000
DTSTAMP:20260420T224102
CREATED:20260227T170332Z
LAST-MODIFIED:20260327T164440Z
UID:10001344-1773660600-1773662400@www.fspl.org
SUMMARY:Preschool Storytime (Springboro)
DESCRIPTION:Preschool storytime will be held at 11:30 a.m. Mondays\, January 5 – April 13\, at the Springboro Branch. \nPreschool storytime is a 30- to 45-minute early literacy program that includes songs\, rhymes\, stories\, and an process art activity or craft. \nPreschool storytime is recommended for children ages 3-5 years. It helps build pre-literacy skills and foster children’s love of books!
URL:https://www.fspl.org/event/preschool-storytime-springboro-3/2026-03-16/
LOCATION:Springboro Library\, 125 Park Lane\, Springboro\, OH\, 45066\, United States
CATEGORIES:Storytimes
ATTACH;FMTTYPE=image/jpeg:https://www.fspl.org/wp-content/uploads/2026/03/storytime.jpg
END:VEVENT
BEGIN:VEVENT
DTSTART;TZID=America/Detroit:20260316T103000
DTEND;TZID=America/Detroit:20260316T110000
DTSTAMP:20260420T224102
CREATED:20260227T170132Z
LAST-MODIFIED:20260327T192520Z
UID:10001338-1773657000-1773658800@www.fspl.org
SUMMARY:Toddler Storytime (Springboro)
DESCRIPTION:Toddler storytime will be held at 10:30 a.m. Mondays\, January 5 – April 13\, at the Springboro Branch. \nToddler storytime is a 25- to 30-minute early literacy program that includes activities like songs\, rhymes\, and stories. \nToddler storytime is recommended for children ages 18 months to 3 years. It helps build pre-literacy skills and foster children’s love of books!
URL:https://www.fspl.org/event/toddler-storytime-springboro-5/2026-03-16/
LOCATION:Springboro Library\, 125 Park Lane\, Springboro\, OH\, 45066\, United States
CATEGORIES:Storytimes
ATTACH;FMTTYPE=image/jpeg:https://www.fspl.org/wp-content/uploads/2026/03/storytime.jpg
END:VEVENT
BEGIN:VEVENT
DTSTART;TZID=America/Detroit:20260316T093000
DTEND;TZID=America/Detroit:20260316T100000
DTSTAMP:20260420T224102
CREATED:20260227T165321Z
LAST-MODIFIED:20260327T164552Z
UID:10001280-1773653400-1773655200@www.fspl.org
SUMMARY:Baby Storytime (Springboro)
DESCRIPTION:Baby storytime will be held at 9:30 a.m. Mondays\, January 5 – April 13\, at the Springboro Branch. \nBaby storytime is a 25-minute early literacy program that includes songs\, rhymes\, stories\, toys\, and bubbles. \nBaby storytime is recommended for children ages 6-18 months.
URL:https://www.fspl.org/event/baby-storytime-springboro-3/2026-03-16/
LOCATION:Springboro Library\, 125 Park Lane\, Springboro\, OH\, 45066\, United States
CATEGORIES:Storytimes
ATTACH;FMTTYPE=image/jpeg:https://www.fspl.org/wp-content/uploads/2026/03/storytime.jpg
END:VEVENT
BEGIN:VEVENT
DTSTART;TZID=America/Detroit:20260312T183000
DTEND;TZID=America/Detroit:20260312T193000
DTSTAMP:20260420T224102
CREATED:20260227T181233Z
LAST-MODIFIED:20260327T163857Z
UID:10001392-1773340200-1773343800@www.fspl.org
SUMMARY:Family Storytime (Springboro)
DESCRIPTION:Family storytime will be held at 6:30 p.m. Thursdays\, January 8 – April 16\, at the Springboro Branch. \nFamily storytime is a 30- to 45-minute early literacy program that includes songs\, rhymes\, stories\, and an art activity or craft. \nMost activities are designed for toddlers and preschool-age children\, but children of all ages are invited to attend family storytime. The activities will help build pre-literacy skills and foster children’s love of books!
URL:https://www.fspl.org/event/family-storytime-springboro-2/2026-03-12/
LOCATION:Springboro Library\, 125 Park Lane\, Springboro\, OH\, 45066\, United States
CATEGORIES:Storytimes
ATTACH;FMTTYPE=image/jpeg:https://www.fspl.org/wp-content/uploads/2026/03/storytime.jpg
END:VEVENT
BEGIN:VEVENT
DTSTART;TZID=America/Detroit:20260312T170000
DTEND;TZID=America/Detroit:20260312T180000
DTSTAMP:20260420T224102
CREATED:20260227T162356Z
LAST-MODIFIED:20260227T162356Z
UID:10001267-1773334800-1773338400@www.fspl.org
SUMMARY:Book Splash (Springboro)
DESCRIPTION:Join the book club for readers in kindergarten and first grade. We will read a story together at the meeting and then do story-related activities. Caregivers must remain with children throughout the program. Our March meeting will feature the book Share\, Big Bear\, Share! by Maureen Wright. Ages 5-7\, no registration required.
URL:https://www.fspl.org/event/book-splash-springboro/
LOCATION:Springboro Library\, 125 Park Lane\, Springboro\, OH\, 45066\, United States
CATEGORIES:Children's Programs
END:VEVENT
BEGIN:VEVENT
DTSTART;TZID=America/Detroit:20260312T113000
DTEND;TZID=America/Detroit:20260312T120000
DTSTAMP:20260420T224102
CREATED:20260227T180527Z
LAST-MODIFIED:20260327T192218Z
UID:10001386-1773315000-1773316800@www.fspl.org
SUMMARY:Preschool Storytime (Springboro)
DESCRIPTION:Preschool storytime will be held at 11:30 a.m. Thursdays\, January 8 – April 16\, at the Springboro Branch. \nPreschool storytime is a 30- to 45-minute early literacy program that includes songs\, rhymes\, stories\, and an process art activity or craft. \nPreschool storytime is recommended for children ages 3-5 years. It helps build pre-literacy skills and foster children’s love of books!
URL:https://www.fspl.org/event/preschool-storytime-springboro-4/2026-03-12/
LOCATION:Springboro Library\, 125 Park Lane\, Springboro\, OH\, 45066\, United States
CATEGORIES:Storytimes
ATTACH;FMTTYPE=image/jpeg:https://www.fspl.org/wp-content/uploads/2026/03/storytime.jpg
END:VEVENT
BEGIN:VEVENT
DTSTART;TZID=America/Detroit:20260312T103000
DTEND;TZID=America/Detroit:20260312T110000
DTSTAMP:20260420T224102
CREATED:20260227T172852Z
LAST-MODIFIED:20260327T192549Z
UID:10001379-1773311400-1773313200@www.fspl.org
SUMMARY:Toddler Storytime (Springboro)
DESCRIPTION:Toddler storytime will be held at 10:30 a.m. Thursdays\, January 8 – April 16\, at the Springboro Branch. \nToddler storytime is a 25- to 30-minute early literacy program that includes activities like songs\, rhymes\, and stories. \nToddler storytime is recommended for children ages 18 months to 3 years. It helps build pre-literacy skills and foster children’s love of books!
URL:https://www.fspl.org/event/toddler-storytime-springboro-7/2026-03-12/
LOCATION:Springboro Library\, 125 Park Lane\, Springboro\, OH\, 45066\, United States
CATEGORIES:Storytimes
ATTACH;FMTTYPE=image/jpeg:https://www.fspl.org/wp-content/uploads/2026/03/storytime.jpg
END:VEVENT
BEGIN:VEVENT
DTSTART;TZID=America/Detroit:20260312T093000
DTEND;TZID=America/Detroit:20260312T100000
DTSTAMP:20260420T224102
CREATED:20260227T172524Z
LAST-MODIFIED:20260327T192537Z
UID:10001373-1773307800-1773309600@www.fspl.org
SUMMARY:Toddler Storytime (Springboro)
DESCRIPTION:Toddler storytime will be held at 9:30 a.m. Thursdays\, January 8 – April 16\, at the Springboro Branch. \nToddler storytime is a 25- to 30-minute early literacy program that includes activities like songs\, rhymes\, and stories. \nToddler storytime is recommended for children ages 18 months to 3 years. It helps build pre-literacy skills and foster children’s love of books!
URL:https://www.fspl.org/event/toddler-storytime-springboro-6/2026-03-12/
LOCATION:Springboro Library\, 125 Park Lane\, Springboro\, OH\, 45066\, United States
CATEGORIES:Storytimes
ATTACH;FMTTYPE=image/jpeg:https://www.fspl.org/wp-content/uploads/2026/03/storytime.jpg
END:VEVENT
BEGIN:VEVENT
DTSTART;TZID=America/Detroit:20260311T130000
DTEND;TZID=America/Detroit:20260311T140000
DTSTAMP:20260420T224102
CREATED:20260227T155546Z
LAST-MODIFIED:20260402T201955Z
UID:10001260-1773234000-1773237600@www.fspl.org
SUMMARY:Adult Stretch (Springboro)
DESCRIPTION:Spend an hour with licensed physical therapist\, certified Pilates instructor\, and author Donna Gambino at the Springboro Library. Learn how your body will respond positively to correct exercise with the right mind work. Your issues are in your tissues\, and through the therapeutic power of awareness you can heal yourself. Please bring a mat and water bottle. Ages 16+. If under 18 years a parent or legal guardian must sign a waiver. All abilities are welcome. No registration required.
URL:https://www.fspl.org/event/adult-stretch-springboro-3/
LOCATION:Springboro Library\, 125 Park Lane\, Springboro\, OH\, 45066\, United States
CATEGORIES:Adult Programs,Teen Programs
ATTACH;FMTTYPE=image/jpeg:https://www.fspl.org/wp-content/uploads/2026/03/adult-jpg.jpg
END:VEVENT
BEGIN:VEVENT
DTSTART;TZID=America/Detroit:20260310T173000
DTEND;TZID=America/Detroit:20260310T190000
DTSTAMP:20260420T224102
CREATED:20260227T162217Z
LAST-MODIFIED:20260227T162217Z
UID:10001266-1773163800-1773169200@www.fspl.org
SUMMARY:Book Pop (Springboro)
DESCRIPTION:Book Pop is a book club for readers in fourth through sixth grade. We read a new book each month and then meet to discuss the book\, do book-related activities\, and have snacks! For the March meeting\, we are reading Gregor the Overlander by Suzanne Collins. Copies of the book will be available to check out from the Springboro Branch by February 10. If you prefer to pick up the book at the Franklin Branch\, let us know when you register\, and we’ll send a copy to the Franklin Branch for you. Ages 9-12\, registration required.
URL:https://www.fspl.org/event/book-pop-springboro/
LOCATION:Springboro Library\, 125 Park Lane\, Springboro\, OH\, 45066\, United States
CATEGORIES:Children's Programs
END:VEVENT
BEGIN:VEVENT
DTSTART;TZID=America/Detroit:20260310T133000
DTEND;TZID=America/Detroit:20260310T143000
DTSTAMP:20260420T224102
CREATED:20260227T154521Z
LAST-MODIFIED:20260319T161250Z
UID:10001258-1773149400-1773153000@www.fspl.org
SUMMARY:Bring Your Own Book Club (Springboro)
DESCRIPTION:BYOBC! Join us for a themed monthly book discussion. For March\, choose a book about “New Beginnings”. Ages 18+\, no registration required. \n 
URL:https://www.fspl.org/event/bring-your-own-book-club-springboro/
LOCATION:Springboro Library\, 125 Park Lane\, Springboro\, OH\, 45066\, United States
CATEGORIES:Adult Programs
END:VEVENT
BEGIN:VEVENT
DTSTART;TZID=America/Detroit:20260309T180000
DTEND;TZID=America/Detroit:20260309T190000
DTSTAMP:20260420T224102
CREATED:20260227T154229Z
LAST-MODIFIED:20260319T161104Z
UID:10001257-1773079200-1773082800@www.fspl.org
SUMMARY:Boro Book Club (Springboro)
DESCRIPTION:Bedazzle a book while we chat about our recent reads! Bring your own book to bedazzle\, beads and supplies will be provided.
URL:https://www.fspl.org/event/boro-book-club-springboro/
LOCATION:Springboro Library\, 125 Park Lane\, Springboro\, OH\, 45066\, United States
CATEGORIES:Adult Programs
END:VEVENT
BEGIN:VEVENT
DTSTART;TZID=America/Detroit:20260309T113000
DTEND;TZID=America/Detroit:20260309T120000
DTSTAMP:20260420T224102
CREATED:20260227T170332Z
LAST-MODIFIED:20260327T164440Z
UID:10001343-1773055800-1773057600@www.fspl.org
SUMMARY:Preschool Storytime (Springboro)
DESCRIPTION:Preschool storytime will be held at 11:30 a.m. Mondays\, January 5 – April 13\, at the Springboro Branch. \nPreschool storytime is a 30- to 45-minute early literacy program that includes songs\, rhymes\, stories\, and an process art activity or craft. \nPreschool storytime is recommended for children ages 3-5 years. It helps build pre-literacy skills and foster children’s love of books!
URL:https://www.fspl.org/event/preschool-storytime-springboro-3/2026-03-09/
LOCATION:Springboro Library\, 125 Park Lane\, Springboro\, OH\, 45066\, United States
CATEGORIES:Storytimes
ATTACH;FMTTYPE=image/jpeg:https://www.fspl.org/wp-content/uploads/2026/03/storytime.jpg
END:VEVENT
BEGIN:VEVENT
DTSTART;TZID=America/Detroit:20260309T103000
DTEND;TZID=America/Detroit:20260309T110000
DTSTAMP:20260420T224102
CREATED:20260227T170132Z
LAST-MODIFIED:20260327T192520Z
UID:10001337-1773052200-1773054000@www.fspl.org
SUMMARY:Toddler Storytime (Springboro)
DESCRIPTION:Toddler storytime will be held at 10:30 a.m. Mondays\, January 5 – April 13\, at the Springboro Branch. \nToddler storytime is a 25- to 30-minute early literacy program that includes activities like songs\, rhymes\, and stories. \nToddler storytime is recommended for children ages 18 months to 3 years. It helps build pre-literacy skills and foster children’s love of books!
URL:https://www.fspl.org/event/toddler-storytime-springboro-5/2026-03-09/
LOCATION:Springboro Library\, 125 Park Lane\, Springboro\, OH\, 45066\, United States
CATEGORIES:Storytimes
ATTACH;FMTTYPE=image/jpeg:https://www.fspl.org/wp-content/uploads/2026/03/storytime.jpg
END:VEVENT
BEGIN:VEVENT
DTSTART;TZID=America/Detroit:20260309T093000
DTEND;TZID=America/Detroit:20260309T100000
DTSTAMP:20260420T224102
CREATED:20260227T165321Z
LAST-MODIFIED:20260327T164552Z
UID:10001279-1773048600-1773050400@www.fspl.org
SUMMARY:Baby Storytime (Springboro)
DESCRIPTION:Baby storytime will be held at 9:30 a.m. Mondays\, January 5 – April 13\, at the Springboro Branch. \nBaby storytime is a 25-minute early literacy program that includes songs\, rhymes\, stories\, toys\, and bubbles. \nBaby storytime is recommended for children ages 6-18 months.
URL:https://www.fspl.org/event/baby-storytime-springboro-3/2026-03-09/
LOCATION:Springboro Library\, 125 Park Lane\, Springboro\, OH\, 45066\, United States
CATEGORIES:Storytimes
ATTACH;FMTTYPE=image/jpeg:https://www.fspl.org/wp-content/uploads/2026/03/storytime.jpg
END:VEVENT
END:VCALENDAR