BEGIN:VCALENDAR
VERSION:2.0
PRODID:-//Franklin-Springboro Public Library - ECPv6.15.20//NONSGML v1.0//EN
CALSCALE:GREGORIAN
METHOD:PUBLISH
X-WR-CALNAME:Franklin-Springboro Public Library
X-ORIGINAL-URL:https://www.fspl.org
X-WR-CALDESC:Events for Franklin-Springboro Public Library
REFRESH-INTERVAL;VALUE=DURATION:PT1H
X-Robots-Tag:noindex
X-PUBLISHED-TTL:PT1H
BEGIN:VTIMEZONE
TZID:America/Detroit
BEGIN:DAYLIGHT
TZOFFSETFROM:-0500
TZOFFSETTO:-0400
TZNAME:EDT
DTSTART:20250309T070000
END:DAYLIGHT
BEGIN:STANDARD
TZOFFSETFROM:-0400
TZOFFSETTO:-0500
TZNAME:EST
DTSTART:20251102T060000
END:STANDARD
BEGIN:DAYLIGHT
TZOFFSETFROM:-0500
TZOFFSETTO:-0400
TZNAME:EDT
DTSTART:20260308T070000
END:DAYLIGHT
BEGIN:STANDARD
TZOFFSETFROM:-0400
TZOFFSETTO:-0500
TZNAME:EST
DTSTART:20261101T060000
END:STANDARD
BEGIN:DAYLIGHT
TZOFFSETFROM:-0500
TZOFFSETTO:-0400
TZNAME:EDT
DTSTART:20270314T070000
END:DAYLIGHT
BEGIN:STANDARD
TZOFFSETFROM:-0400
TZOFFSETTO:-0500
TZNAME:EST
DTSTART:20271107T060000
END:STANDARD
END:VTIMEZONE
BEGIN:VEVENT
DTSTART;TZID=America/Detroit:20260409T183000
DTEND;TZID=America/Detroit:20260409T193000
DTSTAMP:20260420T191840
CREATED:20260227T181233Z
LAST-MODIFIED:20260327T163857Z
UID:10001396-1775759400-1775763000@www.fspl.org
SUMMARY:Family Storytime (Springboro)
DESCRIPTION:Family storytime will be held at 6:30 p.m. Thursdays\, January 8 – April 16\, at the Springboro Branch. \nFamily storytime is a 30- to 45-minute early literacy program that includes songs\, rhymes\, stories\, and an art activity or craft. \nMost activities are designed for toddlers and preschool-age children\, but children of all ages are invited to attend family storytime. The activities will help build pre-literacy skills and foster children’s love of books!
URL:https://www.fspl.org/event/family-storytime-springboro-2/2026-04-09/
LOCATION:Springboro Library\, 125 Park Lane\, Springboro\, OH\, 45066\, United States
CATEGORIES:Storytimes
ATTACH;FMTTYPE=image/jpeg:https://www.fspl.org/wp-content/uploads/2026/03/storytime.jpg
END:VEVENT
BEGIN:VEVENT
DTSTART;TZID=America/Detroit:20260409T170000
DTEND;TZID=America/Detroit:20260409T180000
DTSTAMP:20260420T191840
CREATED:20260227T164151Z
LAST-MODIFIED:20260327T162552Z
UID:10001273-1775754000-1775757600@www.fspl.org
SUMMARY:Book Splash (Springboro)
DESCRIPTION:Join the book club for readers in kindergarten and first grade. We will read a story together at the meeting and then do story-related activities. Caregivers must remain with children throughout the program. Our April meeting will feature the book Rhyme Crime by Jon Burgerman. Ages 5-7. Registration not required.
URL:https://www.fspl.org/event/book-splash-springboro-2/
LOCATION:Springboro Library\, 125 Park Lane\, Springboro\, OH\, 45066\, United States
CATEGORIES:Children's Programs
ATTACH;FMTTYPE=image/jpeg:https://www.fspl.org/wp-content/uploads/2026/03/kids-jpg.jpg
END:VEVENT
BEGIN:VEVENT
DTSTART;TZID=America/Detroit:20260409T113000
DTEND;TZID=America/Detroit:20260409T120000
DTSTAMP:20260420T191840
CREATED:20260227T180527Z
LAST-MODIFIED:20260327T192218Z
UID:10001390-1775734200-1775736000@www.fspl.org
SUMMARY:Preschool Storytime (Springboro)
DESCRIPTION:Preschool storytime will be held at 11:30 a.m. Thursdays\, January 8 – April 16\, at the Springboro Branch. \nPreschool storytime is a 30- to 45-minute early literacy program that includes songs\, rhymes\, stories\, and an process art activity or craft. \nPreschool storytime is recommended for children ages 3-5 years. It helps build pre-literacy skills and foster children’s love of books!
URL:https://www.fspl.org/event/preschool-storytime-springboro-4/2026-04-09/
LOCATION:Springboro Library\, 125 Park Lane\, Springboro\, OH\, 45066\, United States
CATEGORIES:Storytimes
ATTACH;FMTTYPE=image/jpeg:https://www.fspl.org/wp-content/uploads/2026/03/storytime.jpg
END:VEVENT
BEGIN:VEVENT
DTSTART;TZID=America/Detroit:20260409T103000
DTEND;TZID=America/Detroit:20260409T110000
DTSTAMP:20260420T191840
CREATED:20260227T172852Z
LAST-MODIFIED:20260327T192549Z
UID:10001383-1775730600-1775732400@www.fspl.org
SUMMARY:Toddler Storytime (Springboro)
DESCRIPTION:Toddler storytime will be held at 10:30 a.m. Thursdays\, January 8 – April 16\, at the Springboro Branch. \nToddler storytime is a 25- to 30-minute early literacy program that includes activities like songs\, rhymes\, and stories. \nToddler storytime is recommended for children ages 18 months to 3 years. It helps build pre-literacy skills and foster children’s love of books!
URL:https://www.fspl.org/event/toddler-storytime-springboro-7/2026-04-09/
LOCATION:Springboro Library\, 125 Park Lane\, Springboro\, OH\, 45066\, United States
CATEGORIES:Storytimes
ATTACH;FMTTYPE=image/jpeg:https://www.fspl.org/wp-content/uploads/2026/03/storytime.jpg
END:VEVENT
BEGIN:VEVENT
DTSTART;TZID=America/Detroit:20260409T093000
DTEND;TZID=America/Detroit:20260409T100000
DTSTAMP:20260420T191840
CREATED:20260227T172524Z
LAST-MODIFIED:20260327T192537Z
UID:10001377-1775727000-1775728800@www.fspl.org
SUMMARY:Toddler Storytime (Springboro)
DESCRIPTION:Toddler storytime will be held at 9:30 a.m. Thursdays\, January 8 – April 16\, at the Springboro Branch. \nToddler storytime is a 25- to 30-minute early literacy program that includes activities like songs\, rhymes\, and stories. \nToddler storytime is recommended for children ages 18 months to 3 years. It helps build pre-literacy skills and foster children’s love of books!
URL:https://www.fspl.org/event/toddler-storytime-springboro-6/2026-04-09/
LOCATION:Springboro Library\, 125 Park Lane\, Springboro\, OH\, 45066\, United States
CATEGORIES:Storytimes
ATTACH;FMTTYPE=image/jpeg:https://www.fspl.org/wp-content/uploads/2026/03/storytime.jpg
END:VEVENT
BEGIN:VEVENT
DTSTART;TZID=America/Detroit:20260408T170000
DTEND;TZID=America/Detroit:20260408T183000
DTSTAMP:20260420T191840
CREATED:20260227T153838Z
LAST-MODIFIED:20260327T162636Z
UID:10001255-1775667600-1775673000@www.fspl.org
SUMMARY:Blocked! and Printed (Springboro)
DESCRIPTION:Join us for our Blocked! and Printed program on Wednesday\, April 8th\, from 5-6:30pm at the Springboro Branch to learn how to block print using Styrofoam! All supplies will be provided so teens only need to bring themselves and their creativity! Ages 11-18\, registration required. \nNot sure what we mean by Styrofoam block printing? Check out what we mean here!
URL:https://www.fspl.org/event/blocked-and-printed-springboro/
LOCATION:Springboro Library\, 125 Park Lane\, Springboro\, OH\, 45066\, United States
CATEGORIES:Teen Programs
ATTACH;FMTTYPE=image/jpeg:https://www.fspl.org/wp-content/uploads/2026/03/teen.jpg
END:VEVENT
BEGIN:VEVENT
DTSTART;TZID=America/Detroit:20260408T130000
DTEND;TZID=America/Detroit:20260408T140000
DTSTAMP:20260420T191840
CREATED:20260227T155941Z
LAST-MODIFIED:20260402T201932Z
UID:10001262-1775653200-1775656800@www.fspl.org
SUMMARY:Adult Stretch (Springboro)
DESCRIPTION:Spend an hour with licensed physical therapist\, certified Pilates instructor\, and author Donna Gambino at the Springboro Library. Learn how your body will respond positively to correct exercise with the right mind work. Your issues are in your tissues\, and through the therapeutic power of awareness you can heal yourself. Please bring a mat and water bottle. Ages 16+. If under 18 years a parent or legal guardian must sign a waiver. All abilities are welcome. No registration required.
URL:https://www.fspl.org/event/adult-stretch-springboro-4/
LOCATION:Springboro Library\, 125 Park Lane\, Springboro\, OH\, 45066\, United States
CATEGORIES:Adult Programs,Teen Programs
ATTACH;FMTTYPE=image/jpeg:https://www.fspl.org/wp-content/uploads/2026/03/adult-jpg.jpg
END:VEVENT
BEGIN:VEVENT
DTSTART;TZID=America/Detroit:20260407T100000
DTEND;TZID=America/Detroit:20260407T110000
DTSTAMP:20260420T191840
CREATED:20260227T163840Z
LAST-MODIFIED:20260327T163221Z
UID:10001272-1775556000-1775559600@www.fspl.org
SUMMARY:Play and Learn (Springboro)
DESCRIPTION:Have a playdate at the library! Join us for unstructured playtime at the Springboro Branch. The library will provide age-appropriate toys for children ages birth-5 years and their caregivers to explore while socializing and making connections. No registration required.
URL:https://www.fspl.org/event/play-and-learn-springboro/
LOCATION:Springboro Library\, 125 Park Lane\, Springboro\, OH\, 45066\, United States
CATEGORIES:Children's Programs
ATTACH;FMTTYPE=image/jpeg:https://www.fspl.org/wp-content/uploads/2026/03/kids-jpg.jpg
END:VEVENT
BEGIN:VEVENT
DTSTART;TZID=America/Detroit:20260406T113000
DTEND;TZID=America/Detroit:20260406T120000
DTSTAMP:20260420T191840
CREATED:20260227T170332Z
LAST-MODIFIED:20260327T164440Z
UID:10001347-1775475000-1775476800@www.fspl.org
SUMMARY:Preschool Storytime (Springboro)
DESCRIPTION:Preschool storytime will be held at 11:30 a.m. Mondays\, January 5 – April 13\, at the Springboro Branch. \nPreschool storytime is a 30- to 45-minute early literacy program that includes songs\, rhymes\, stories\, and an process art activity or craft. \nPreschool storytime is recommended for children ages 3-5 years. It helps build pre-literacy skills and foster children’s love of books!
URL:https://www.fspl.org/event/preschool-storytime-springboro-3/2026-04-06/
LOCATION:Springboro Library\, 125 Park Lane\, Springboro\, OH\, 45066\, United States
CATEGORIES:Storytimes
ATTACH;FMTTYPE=image/jpeg:https://www.fspl.org/wp-content/uploads/2026/03/storytime.jpg
END:VEVENT
BEGIN:VEVENT
DTSTART;TZID=America/Detroit:20260406T103000
DTEND;TZID=America/Detroit:20260406T110000
DTSTAMP:20260420T191840
CREATED:20260227T170132Z
LAST-MODIFIED:20260327T192520Z
UID:10001341-1775471400-1775473200@www.fspl.org
SUMMARY:Toddler Storytime (Springboro)
DESCRIPTION:Toddler storytime will be held at 10:30 a.m. Mondays\, January 5 – April 13\, at the Springboro Branch. \nToddler storytime is a 25- to 30-minute early literacy program that includes activities like songs\, rhymes\, and stories. \nToddler storytime is recommended for children ages 18 months to 3 years. It helps build pre-literacy skills and foster children’s love of books!
URL:https://www.fspl.org/event/toddler-storytime-springboro-5/2026-04-06/
LOCATION:Springboro Library\, 125 Park Lane\, Springboro\, OH\, 45066\, United States
CATEGORIES:Storytimes
ATTACH;FMTTYPE=image/jpeg:https://www.fspl.org/wp-content/uploads/2026/03/storytime.jpg
END:VEVENT
BEGIN:VEVENT
DTSTART;TZID=America/Detroit:20260406T093000
DTEND;TZID=America/Detroit:20260406T100000
DTSTAMP:20260420T191840
CREATED:20260227T165321Z
LAST-MODIFIED:20260327T164552Z
UID:10001283-1775467800-1775469600@www.fspl.org
SUMMARY:Baby Storytime (Springboro)
DESCRIPTION:Baby storytime will be held at 9:30 a.m. Mondays\, January 5 – April 13\, at the Springboro Branch. \nBaby storytime is a 25-minute early literacy program that includes songs\, rhymes\, stories\, toys\, and bubbles. \nBaby storytime is recommended for children ages 6-18 months.
URL:https://www.fspl.org/event/baby-storytime-springboro-3/2026-04-06/
LOCATION:Springboro Library\, 125 Park Lane\, Springboro\, OH\, 45066\, United States
CATEGORIES:Storytimes
ATTACH;FMTTYPE=image/jpeg:https://www.fspl.org/wp-content/uploads/2026/03/storytime.jpg
END:VEVENT
BEGIN:VEVENT
DTSTART;TZID=America/Detroit:20260402T183000
DTEND;TZID=America/Detroit:20260402T193000
DTSTAMP:20260420T191840
CREATED:20260227T181233Z
LAST-MODIFIED:20260327T163857Z
UID:10001395-1775154600-1775158200@www.fspl.org
SUMMARY:Family Storytime (Springboro)
DESCRIPTION:Family storytime will be held at 6:30 p.m. Thursdays\, January 8 – April 16\, at the Springboro Branch. \nFamily storytime is a 30- to 45-minute early literacy program that includes songs\, rhymes\, stories\, and an art activity or craft. \nMost activities are designed for toddlers and preschool-age children\, but children of all ages are invited to attend family storytime. The activities will help build pre-literacy skills and foster children’s love of books!
URL:https://www.fspl.org/event/family-storytime-springboro-2/2026-04-02/
LOCATION:Springboro Library\, 125 Park Lane\, Springboro\, OH\, 45066\, United States
CATEGORIES:Storytimes
ATTACH;FMTTYPE=image/jpeg:https://www.fspl.org/wp-content/uploads/2026/03/storytime.jpg
END:VEVENT
BEGIN:VEVENT
DTSTART;TZID=America/Detroit:20260402T113000
DTEND;TZID=America/Detroit:20260402T120000
DTSTAMP:20260420T191840
CREATED:20260227T180527Z
LAST-MODIFIED:20260327T192218Z
UID:10001389-1775129400-1775131200@www.fspl.org
SUMMARY:Preschool Storytime (Springboro)
DESCRIPTION:Preschool storytime will be held at 11:30 a.m. Thursdays\, January 8 – April 16\, at the Springboro Branch. \nPreschool storytime is a 30- to 45-minute early literacy program that includes songs\, rhymes\, stories\, and an process art activity or craft. \nPreschool storytime is recommended for children ages 3-5 years. It helps build pre-literacy skills and foster children’s love of books!
URL:https://www.fspl.org/event/preschool-storytime-springboro-4/2026-04-02/
LOCATION:Springboro Library\, 125 Park Lane\, Springboro\, OH\, 45066\, United States
CATEGORIES:Storytimes
ATTACH;FMTTYPE=image/jpeg:https://www.fspl.org/wp-content/uploads/2026/03/storytime.jpg
END:VEVENT
BEGIN:VEVENT
DTSTART;TZID=America/Detroit:20260402T103000
DTEND;TZID=America/Detroit:20260402T110000
DTSTAMP:20260420T191840
CREATED:20260227T172852Z
LAST-MODIFIED:20260327T192549Z
UID:10001382-1775125800-1775127600@www.fspl.org
SUMMARY:Toddler Storytime (Springboro)
DESCRIPTION:Toddler storytime will be held at 10:30 a.m. Thursdays\, January 8 – April 16\, at the Springboro Branch. \nToddler storytime is a 25- to 30-minute early literacy program that includes activities like songs\, rhymes\, and stories. \nToddler storytime is recommended for children ages 18 months to 3 years. It helps build pre-literacy skills and foster children’s love of books!
URL:https://www.fspl.org/event/toddler-storytime-springboro-7/2026-04-02/
LOCATION:Springboro Library\, 125 Park Lane\, Springboro\, OH\, 45066\, United States
CATEGORIES:Storytimes
ATTACH;FMTTYPE=image/jpeg:https://www.fspl.org/wp-content/uploads/2026/03/storytime.jpg
END:VEVENT
BEGIN:VEVENT
DTSTART;TZID=America/Detroit:20260402T093000
DTEND;TZID=America/Detroit:20260402T100000
DTSTAMP:20260420T191840
CREATED:20260227T172524Z
LAST-MODIFIED:20260327T192537Z
UID:10001376-1775122200-1775124000@www.fspl.org
SUMMARY:Toddler Storytime (Springboro)
DESCRIPTION:Toddler storytime will be held at 9:30 a.m. Thursdays\, January 8 – April 16\, at the Springboro Branch. \nToddler storytime is a 25- to 30-minute early literacy program that includes activities like songs\, rhymes\, and stories. \nToddler storytime is recommended for children ages 18 months to 3 years. It helps build pre-literacy skills and foster children’s love of books!
URL:https://www.fspl.org/event/toddler-storytime-springboro-6/2026-04-02/
LOCATION:Springboro Library\, 125 Park Lane\, Springboro\, OH\, 45066\, United States
CATEGORIES:Storytimes
ATTACH;FMTTYPE=image/jpeg:https://www.fspl.org/wp-content/uploads/2026/03/storytime.jpg
END:VEVENT
BEGIN:VEVENT
DTSTART;TZID=America/Detroit:20260330T113000
DTEND;TZID=America/Detroit:20260330T120000
DTSTAMP:20260420T191840
CREATED:20260227T170332Z
LAST-MODIFIED:20260327T164440Z
UID:10001346-1774870200-1774872000@www.fspl.org
SUMMARY:Preschool Storytime (Springboro)
DESCRIPTION:Preschool storytime will be held at 11:30 a.m. Mondays\, January 5 – April 13\, at the Springboro Branch. \nPreschool storytime is a 30- to 45-minute early literacy program that includes songs\, rhymes\, stories\, and an process art activity or craft. \nPreschool storytime is recommended for children ages 3-5 years. It helps build pre-literacy skills and foster children’s love of books!
URL:https://www.fspl.org/event/preschool-storytime-springboro-3/2026-03-30/
LOCATION:Springboro Library\, 125 Park Lane\, Springboro\, OH\, 45066\, United States
CATEGORIES:Storytimes
ATTACH;FMTTYPE=image/jpeg:https://www.fspl.org/wp-content/uploads/2026/03/storytime.jpg
END:VEVENT
BEGIN:VEVENT
DTSTART;TZID=America/Detroit:20260330T103000
DTEND;TZID=America/Detroit:20260330T110000
DTSTAMP:20260420T191840
CREATED:20260227T170132Z
LAST-MODIFIED:20260327T192520Z
UID:10001340-1774866600-1774868400@www.fspl.org
SUMMARY:Toddler Storytime (Springboro)
DESCRIPTION:Toddler storytime will be held at 10:30 a.m. Mondays\, January 5 – April 13\, at the Springboro Branch. \nToddler storytime is a 25- to 30-minute early literacy program that includes activities like songs\, rhymes\, and stories. \nToddler storytime is recommended for children ages 18 months to 3 years. It helps build pre-literacy skills and foster children’s love of books!
URL:https://www.fspl.org/event/toddler-storytime-springboro-5/2026-03-30/
LOCATION:Springboro Library\, 125 Park Lane\, Springboro\, OH\, 45066\, United States
CATEGORIES:Storytimes
ATTACH;FMTTYPE=image/jpeg:https://www.fspl.org/wp-content/uploads/2026/03/storytime.jpg
END:VEVENT
BEGIN:VEVENT
DTSTART;TZID=America/Detroit:20260330T093000
DTEND;TZID=America/Detroit:20260330T100000
DTSTAMP:20260420T191840
CREATED:20260227T165321Z
LAST-MODIFIED:20260327T164552Z
UID:10001282-1774863000-1774864800@www.fspl.org
SUMMARY:Baby Storytime (Springboro)
DESCRIPTION:Baby storytime will be held at 9:30 a.m. Mondays\, January 5 – April 13\, at the Springboro Branch. \nBaby storytime is a 25-minute early literacy program that includes songs\, rhymes\, stories\, toys\, and bubbles. \nBaby storytime is recommended for children ages 6-18 months.
URL:https://www.fspl.org/event/baby-storytime-springboro-3/2026-03-30/
LOCATION:Springboro Library\, 125 Park Lane\, Springboro\, OH\, 45066\, United States
CATEGORIES:Storytimes
ATTACH;FMTTYPE=image/jpeg:https://www.fspl.org/wp-content/uploads/2026/03/storytime.jpg
END:VEVENT
BEGIN:VEVENT
DTSTART;TZID=America/Detroit:20260326T183000
DTEND;TZID=America/Detroit:20260326T193000
DTSTAMP:20260420T191840
CREATED:20260227T181233Z
LAST-MODIFIED:20260327T163857Z
UID:10001394-1774549800-1774553400@www.fspl.org
SUMMARY:Family Storytime (Springboro)
DESCRIPTION:Family storytime will be held at 6:30 p.m. Thursdays\, January 8 – April 16\, at the Springboro Branch. \nFamily storytime is a 30- to 45-minute early literacy program that includes songs\, rhymes\, stories\, and an art activity or craft. \nMost activities are designed for toddlers and preschool-age children\, but children of all ages are invited to attend family storytime. The activities will help build pre-literacy skills and foster children’s love of books!
URL:https://www.fspl.org/event/family-storytime-springboro-2/2026-03-26/
LOCATION:Springboro Library\, 125 Park Lane\, Springboro\, OH\, 45066\, United States
CATEGORIES:Storytimes
ATTACH;FMTTYPE=image/jpeg:https://www.fspl.org/wp-content/uploads/2026/03/storytime.jpg
END:VEVENT
BEGIN:VEVENT
DTSTART;TZID=America/Detroit:20260326T113000
DTEND;TZID=America/Detroit:20260326T120000
DTSTAMP:20260420T191840
CREATED:20260227T180527Z
LAST-MODIFIED:20260327T192218Z
UID:10001388-1774524600-1774526400@www.fspl.org
SUMMARY:Preschool Storytime (Springboro)
DESCRIPTION:Preschool storytime will be held at 11:30 a.m. Thursdays\, January 8 – April 16\, at the Springboro Branch. \nPreschool storytime is a 30- to 45-minute early literacy program that includes songs\, rhymes\, stories\, and an process art activity or craft. \nPreschool storytime is recommended for children ages 3-5 years. It helps build pre-literacy skills and foster children’s love of books!
URL:https://www.fspl.org/event/preschool-storytime-springboro-4/2026-03-26/
LOCATION:Springboro Library\, 125 Park Lane\, Springboro\, OH\, 45066\, United States
CATEGORIES:Storytimes
ATTACH;FMTTYPE=image/jpeg:https://www.fspl.org/wp-content/uploads/2026/03/storytime.jpg
END:VEVENT
BEGIN:VEVENT
DTSTART;TZID=America/Detroit:20260326T103000
DTEND;TZID=America/Detroit:20260326T110000
DTSTAMP:20260420T191840
CREATED:20260227T172852Z
LAST-MODIFIED:20260327T192549Z
UID:10001381-1774521000-1774522800@www.fspl.org
SUMMARY:Toddler Storytime (Springboro)
DESCRIPTION:Toddler storytime will be held at 10:30 a.m. Thursdays\, January 8 – April 16\, at the Springboro Branch. \nToddler storytime is a 25- to 30-minute early literacy program that includes activities like songs\, rhymes\, and stories. \nToddler storytime is recommended for children ages 18 months to 3 years. It helps build pre-literacy skills and foster children’s love of books!
URL:https://www.fspl.org/event/toddler-storytime-springboro-7/2026-03-26/
LOCATION:Springboro Library\, 125 Park Lane\, Springboro\, OH\, 45066\, United States
CATEGORIES:Storytimes
ATTACH;FMTTYPE=image/jpeg:https://www.fspl.org/wp-content/uploads/2026/03/storytime.jpg
END:VEVENT
BEGIN:VEVENT
DTSTART;TZID=America/Detroit:20260326T093000
DTEND;TZID=America/Detroit:20260326T100000
DTSTAMP:20260420T191840
CREATED:20260227T172524Z
LAST-MODIFIED:20260327T192537Z
UID:10001375-1774517400-1774519200@www.fspl.org
SUMMARY:Toddler Storytime (Springboro)
DESCRIPTION:Toddler storytime will be held at 9:30 a.m. Thursdays\, January 8 – April 16\, at the Springboro Branch. \nToddler storytime is a 25- to 30-minute early literacy program that includes activities like songs\, rhymes\, and stories. \nToddler storytime is recommended for children ages 18 months to 3 years. It helps build pre-literacy skills and foster children’s love of books!
URL:https://www.fspl.org/event/toddler-storytime-springboro-6/2026-03-26/
LOCATION:Springboro Library\, 125 Park Lane\, Springboro\, OH\, 45066\, United States
CATEGORIES:Storytimes
ATTACH;FMTTYPE=image/jpeg:https://www.fspl.org/wp-content/uploads/2026/03/storytime.jpg
END:VEVENT
BEGIN:VEVENT
DTSTART;TZID=America/Detroit:20260325T140000
DTEND;TZID=America/Detroit:20260325T150000
DTSTAMP:20260420T191840
CREATED:20260227T163711Z
LAST-MODIFIED:20260227T163711Z
UID:10001271-1774447200-1774450800@www.fspl.org
SUMMARY:Homeschool Art Class (Springboro)
DESCRIPTION:Registration for this program is currently full\, but we encourage you to add your name to the waiting list. \nJoin us for Homeschool Art Class\, where children ages 5-12 will have an opportunity to hear about famous artists\, learn to recognize different art styles\, and use their creativity to make their own art. Caregivers must remain with their children throughout the program. Siblings outside of the age range are welcome at homeschool meetings and will be able to participate in the activities when sufficient supplies are available.
URL:https://www.fspl.org/event/homeschool-art-class-springboro/
LOCATION:Springboro Library\, 125 Park Lane\, Springboro\, OH\, 45066\, United States
CATEGORIES:Children's Programs
END:VEVENT
BEGIN:VEVENT
DTSTART;TZID=America/Detroit:20260324T170000
DTEND;TZID=America/Detroit:20260324T183000
DTSTAMP:20260420T191840
CREATED:20260227T153154Z
LAST-MODIFIED:20260227T153154Z
UID:10001254-1774371600-1774377000@www.fspl.org
SUMMARY:Tile Coasters (Springboro)
DESCRIPTION:Join us for this tilerrific program and make tile coasters on Tuesday\, March 24th\, from 5-6:30pm at the Springboro Branch! During this program participants will use 1×1 tiles\, grout\, and cork to make functional coasters and you’ll never have to worry about water rings on your tables again! All supplies will be provided and we hope to see you there. Ages 11-18\, registration required.
URL:https://www.fspl.org/event/tile-coasters-springboro/
LOCATION:Springboro Library\, 125 Park Lane\, Springboro\, OH\, 45066\, United States
CATEGORIES:Teen Programs
END:VEVENT
BEGIN:VEVENT
DTSTART;TZID=America/Detroit:20260324T093000
DTEND;TZID=America/Detroit:20260324T100000
DTSTAMP:20260420T191840
CREATED:20260227T181752Z
LAST-MODIFIED:20260303T192230Z
UID:10001398-1774344600-1774346400@www.fspl.org
SUMMARY:Kindergarten Storytime (Springboro)
DESCRIPTION:A special once-a-month Kindergarten Storytime is being added to the schedule for February\, March\, and April. It will include songs\, stories\, and activities designed to emphasize the skills your child is developing at school. Plus\, it will be a ton of fun! Ages 5-6 (anyone in kindergarten). No registration required.
URL:https://www.fspl.org/event/kindergarten-storytime-springboro/
LOCATION:Springboro Library\, 125 Park Lane\, Springboro\, OH\, 45066\, United States
CATEGORIES:Storytimes
END:VEVENT
BEGIN:VEVENT
DTSTART;TZID=America/Detroit:20260323T113000
DTEND;TZID=America/Detroit:20260323T120000
DTSTAMP:20260420T191840
CREATED:20260227T170332Z
LAST-MODIFIED:20260327T164440Z
UID:10001345-1774265400-1774267200@www.fspl.org
SUMMARY:Preschool Storytime (Springboro)
DESCRIPTION:Preschool storytime will be held at 11:30 a.m. Mondays\, January 5 – April 13\, at the Springboro Branch. \nPreschool storytime is a 30- to 45-minute early literacy program that includes songs\, rhymes\, stories\, and an process art activity or craft. \nPreschool storytime is recommended for children ages 3-5 years. It helps build pre-literacy skills and foster children’s love of books!
URL:https://www.fspl.org/event/preschool-storytime-springboro-3/2026-03-23/
LOCATION:Springboro Library\, 125 Park Lane\, Springboro\, OH\, 45066\, United States
CATEGORIES:Storytimes
ATTACH;FMTTYPE=image/jpeg:https://www.fspl.org/wp-content/uploads/2026/03/storytime.jpg
END:VEVENT
BEGIN:VEVENT
DTSTART;TZID=America/Detroit:20260323T103000
DTEND;TZID=America/Detroit:20260323T110000
DTSTAMP:20260420T191840
CREATED:20260227T170132Z
LAST-MODIFIED:20260327T192520Z
UID:10001339-1774261800-1774263600@www.fspl.org
SUMMARY:Toddler Storytime (Springboro)
DESCRIPTION:Toddler storytime will be held at 10:30 a.m. Mondays\, January 5 – April 13\, at the Springboro Branch. \nToddler storytime is a 25- to 30-minute early literacy program that includes activities like songs\, rhymes\, and stories. \nToddler storytime is recommended for children ages 18 months to 3 years. It helps build pre-literacy skills and foster children’s love of books!
URL:https://www.fspl.org/event/toddler-storytime-springboro-5/2026-03-23/
LOCATION:Springboro Library\, 125 Park Lane\, Springboro\, OH\, 45066\, United States
CATEGORIES:Storytimes
ATTACH;FMTTYPE=image/jpeg:https://www.fspl.org/wp-content/uploads/2026/03/storytime.jpg
END:VEVENT
BEGIN:VEVENT
DTSTART;TZID=America/Detroit:20260323T093000
DTEND;TZID=America/Detroit:20260323T100000
DTSTAMP:20260420T191840
CREATED:20260227T165321Z
LAST-MODIFIED:20260327T164552Z
UID:10001281-1774258200-1774260000@www.fspl.org
SUMMARY:Baby Storytime (Springboro)
DESCRIPTION:Baby storytime will be held at 9:30 a.m. Mondays\, January 5 – April 13\, at the Springboro Branch. \nBaby storytime is a 25-minute early literacy program that includes songs\, rhymes\, stories\, toys\, and bubbles. \nBaby storytime is recommended for children ages 6-18 months.
URL:https://www.fspl.org/event/baby-storytime-springboro-3/2026-03-23/
LOCATION:Springboro Library\, 125 Park Lane\, Springboro\, OH\, 45066\, United States
CATEGORIES:Storytimes
ATTACH;FMTTYPE=image/jpeg:https://www.fspl.org/wp-content/uploads/2026/03/storytime.jpg
END:VEVENT
BEGIN:VEVENT
DTSTART;TZID=America/Detroit:20260319T183000
DTEND;TZID=America/Detroit:20260319T193000
DTSTAMP:20260420T191840
CREATED:20260227T181233Z
LAST-MODIFIED:20260327T163857Z
UID:10001393-1773945000-1773948600@www.fspl.org
SUMMARY:Family Storytime (Springboro)
DESCRIPTION:Family storytime will be held at 6:30 p.m. Thursdays\, January 8 – April 16\, at the Springboro Branch. \nFamily storytime is a 30- to 45-minute early literacy program that includes songs\, rhymes\, stories\, and an art activity or craft. \nMost activities are designed for toddlers and preschool-age children\, but children of all ages are invited to attend family storytime. The activities will help build pre-literacy skills and foster children’s love of books!
URL:https://www.fspl.org/event/family-storytime-springboro-2/2026-03-19/
LOCATION:Springboro Library\, 125 Park Lane\, Springboro\, OH\, 45066\, United States
CATEGORIES:Storytimes
ATTACH;FMTTYPE=image/jpeg:https://www.fspl.org/wp-content/uploads/2026/03/storytime.jpg
END:VEVENT
BEGIN:VEVENT
DTSTART;TZID=America/Detroit:20260319T170000
DTEND;TZID=America/Detroit:20260319T180000
DTSTAMP:20260420T191840
CREATED:20260227T163015Z
LAST-MODIFIED:20260227T163459Z
UID:10001270-1773939600-1773943200@www.fspl.org
SUMMARY:Book Buzz (Springboro)
DESCRIPTION:Join the book club for readers in second and third grade. Get the chosen book at the library\, read it at home\, and come to the meeting for fun activities. Caregivers must remain in the library throughout the program. For the March meeting\, we are reading Mr. Cooper is Super by Dan Gutman. The book will be available for checkout from the Springboro Branch by March 5. If you’d prefer to pick up the book from the Franklin Branch\, let us know and we’ll send a copy to the Franklin Branch for you. Ages 7-9\, no registration required.
URL:https://www.fspl.org/event/book-buzz-springboro/
LOCATION:Springboro Library\, 125 Park Lane\, Springboro\, OH\, 45066\, United States
CATEGORIES:Children's Programs
END:VEVENT
END:VCALENDAR