BEGIN:VCALENDAR
VERSION:2.0
PRODID:-//Franklin-Springboro Public Library - ECPv6.15.20//NONSGML v1.0//EN
CALSCALE:GREGORIAN
METHOD:PUBLISH
X-ORIGINAL-URL:https://www.fspl.org
X-WR-CALDESC:Events for Franklin-Springboro Public Library
REFRESH-INTERVAL;VALUE=DURATION:PT1H
X-Robots-Tag:noindex
X-PUBLISHED-TTL:PT1H
BEGIN:VTIMEZONE
TZID:America/Detroit
BEGIN:DAYLIGHT
TZOFFSETFROM:-0500
TZOFFSETTO:-0400
TZNAME:EDT
DTSTART:20250309T070000
END:DAYLIGHT
BEGIN:STANDARD
TZOFFSETFROM:-0400
TZOFFSETTO:-0500
TZNAME:EST
DTSTART:20251102T060000
END:STANDARD
BEGIN:DAYLIGHT
TZOFFSETFROM:-0500
TZOFFSETTO:-0400
TZNAME:EDT
DTSTART:20260308T070000
END:DAYLIGHT
BEGIN:STANDARD
TZOFFSETFROM:-0400
TZOFFSETTO:-0500
TZNAME:EST
DTSTART:20261101T060000
END:STANDARD
BEGIN:DAYLIGHT
TZOFFSETFROM:-0500
TZOFFSETTO:-0400
TZNAME:EDT
DTSTART:20270314T070000
END:DAYLIGHT
BEGIN:STANDARD
TZOFFSETFROM:-0400
TZOFFSETTO:-0500
TZNAME:EST
DTSTART:20271107T060000
END:STANDARD
END:VTIMEZONE
BEGIN:VEVENT
DTSTART;TZID=America/Detroit:20260415T093000
DTEND;TZID=America/Detroit:20260415T100000
DTSTAMP:20260420T191210
CREATED:20260320T225609Z
LAST-MODIFIED:20260327T193902Z
UID:10001360-1776245400-1776247200@www.fspl.org
SUMMARY:Baby Storytime (Franklin)
DESCRIPTION:Baby storytime will be held at 9:30 a.m. Wednesdays\, January 7 – April 15\, at the Franklin Branch. \nBaby storytime is a 25-minute early literacy program that includes songs\, rhymes\, stories\, toys\, and bubbles. \nBaby storytime is recommended for children ages 6-18 months.
URL:https://www.fspl.org/event/baby-storytime-franklin-2/2026-04-15/
LOCATION:Franklin Library\, 44 East 4th Street\, Franklin\, OH\, 45005\, United States
CATEGORIES:Storytimes
ATTACH;FMTTYPE=image/jpeg:https://www.fspl.org/wp-content/uploads/2026/03/storytime.jpg
END:VEVENT
BEGIN:VEVENT
DTSTART;TZID=America/Detroit:20260413T183000
DTEND;TZID=America/Detroit:20260413T193000
DTSTAMP:20260420T191210
CREATED:20260227T170823Z
LAST-MODIFIED:20260327T195016Z
UID:10001354-1776105000-1776108600@www.fspl.org
SUMMARY:Family Storytime (Franklin)
DESCRIPTION:Family storytime will be held at 6:30 p.m. Tuesdays\, January 6 – April 14\, at the Franklin Branch. \nFamily storytime is a 30- to 45-minute early literacy program that includes songs\, rhymes\, stories\, and an art activity or craft. \nMost activities are designed for toddlers and preschool-age children\, but children of all ages are invited to attend family storytime. The activities will help build pre-literacy skills and foster children’s love of books!
URL:https://www.fspl.org/event/family-storytime-franklin-3/2026-04-13/
LOCATION:Franklin Library\, 44 East 4th Street\, Franklin\, OH\, 45005\, United States
CATEGORIES:Storytimes
ATTACH;FMTTYPE=image/jpeg:https://www.fspl.org/wp-content/uploads/2026/03/storytime.jpg
END:VEVENT
BEGIN:VEVENT
DTSTART;TZID=America/Detroit:20260408T093000
DTEND;TZID=America/Detroit:20260408T100000
DTSTAMP:20260420T191210
CREATED:20260320T225609Z
LAST-MODIFIED:20260327T193902Z
UID:10001359-1775640600-1775642400@www.fspl.org
SUMMARY:Baby Storytime (Franklin)
DESCRIPTION:Baby storytime will be held at 9:30 a.m. Wednesdays\, January 7 – April 15\, at the Franklin Branch. \nBaby storytime is a 25-minute early literacy program that includes songs\, rhymes\, stories\, toys\, and bubbles. \nBaby storytime is recommended for children ages 6-18 months.
URL:https://www.fspl.org/event/baby-storytime-franklin-2/2026-04-08/
LOCATION:Franklin Library\, 44 East 4th Street\, Franklin\, OH\, 45005\, United States
CATEGORIES:Storytimes
ATTACH;FMTTYPE=image/jpeg:https://www.fspl.org/wp-content/uploads/2026/03/storytime.jpg
END:VEVENT
BEGIN:VEVENT
DTSTART;TZID=America/Detroit:20260406T183000
DTEND;TZID=America/Detroit:20260406T193000
DTSTAMP:20260420T191210
CREATED:20260227T170823Z
LAST-MODIFIED:20260327T195016Z
UID:10001353-1775500200-1775503800@www.fspl.org
SUMMARY:Family Storytime (Franklin)
DESCRIPTION:Family storytime will be held at 6:30 p.m. Tuesdays\, January 6 – April 14\, at the Franklin Branch. \nFamily storytime is a 30- to 45-minute early literacy program that includes songs\, rhymes\, stories\, and an art activity or craft. \nMost activities are designed for toddlers and preschool-age children\, but children of all ages are invited to attend family storytime. The activities will help build pre-literacy skills and foster children’s love of books!
URL:https://www.fspl.org/event/family-storytime-franklin-3/2026-04-06/
LOCATION:Franklin Library\, 44 East 4th Street\, Franklin\, OH\, 45005\, United States
CATEGORIES:Storytimes
ATTACH;FMTTYPE=image/jpeg:https://www.fspl.org/wp-content/uploads/2026/03/storytime.jpg
END:VEVENT
BEGIN:VEVENT
DTSTART;TZID=America/Detroit:20260401T093000
DTEND;TZID=America/Detroit:20260401T100000
DTSTAMP:20260420T191210
CREATED:20260320T225609Z
LAST-MODIFIED:20260327T193902Z
UID:10001358-1775035800-1775037600@www.fspl.org
SUMMARY:Baby Storytime (Franklin)
DESCRIPTION:Baby storytime will be held at 9:30 a.m. Wednesdays\, January 7 – April 15\, at the Franklin Branch. \nBaby storytime is a 25-minute early literacy program that includes songs\, rhymes\, stories\, toys\, and bubbles. \nBaby storytime is recommended for children ages 6-18 months.
URL:https://www.fspl.org/event/baby-storytime-franklin-2/2026-04-01/
LOCATION:Franklin Library\, 44 East 4th Street\, Franklin\, OH\, 45005\, United States
CATEGORIES:Storytimes
ATTACH;FMTTYPE=image/jpeg:https://www.fspl.org/wp-content/uploads/2026/03/storytime.jpg
END:VEVENT
BEGIN:VEVENT
DTSTART;TZID=America/Detroit:20260330T183000
DTEND;TZID=America/Detroit:20260330T193000
DTSTAMP:20260420T191210
CREATED:20260227T170823Z
LAST-MODIFIED:20260327T195016Z
UID:10001352-1774895400-1774899000@www.fspl.org
SUMMARY:Family Storytime (Franklin)
DESCRIPTION:Family storytime will be held at 6:30 p.m. Tuesdays\, January 6 – April 14\, at the Franklin Branch. \nFamily storytime is a 30- to 45-minute early literacy program that includes songs\, rhymes\, stories\, and an art activity or craft. \nMost activities are designed for toddlers and preschool-age children\, but children of all ages are invited to attend family storytime. The activities will help build pre-literacy skills and foster children’s love of books!
URL:https://www.fspl.org/event/family-storytime-franklin-3/2026-03-30/
LOCATION:Franklin Library\, 44 East 4th Street\, Franklin\, OH\, 45005\, United States
CATEGORIES:Storytimes
ATTACH;FMTTYPE=image/jpeg:https://www.fspl.org/wp-content/uploads/2026/03/storytime.jpg
END:VEVENT
BEGIN:VEVENT
DTSTART;TZID=America/Detroit:20260325T093000
DTEND;TZID=America/Detroit:20260325T100000
DTSTAMP:20260420T191210
CREATED:20260320T225609Z
LAST-MODIFIED:20260327T193902Z
UID:10001357-1774431000-1774432800@www.fspl.org
SUMMARY:Baby Storytime (Franklin)
DESCRIPTION:Baby storytime will be held at 9:30 a.m. Wednesdays\, January 7 – April 15\, at the Franklin Branch. \nBaby storytime is a 25-minute early literacy program that includes songs\, rhymes\, stories\, toys\, and bubbles. \nBaby storytime is recommended for children ages 6-18 months.
URL:https://www.fspl.org/event/baby-storytime-franklin-2/2026-03-25/
LOCATION:Franklin Library\, 44 East 4th Street\, Franklin\, OH\, 45005\, United States
CATEGORIES:Storytimes
ATTACH;FMTTYPE=image/jpeg:https://www.fspl.org/wp-content/uploads/2026/03/storytime.jpg
END:VEVENT
BEGIN:VEVENT
DTSTART;TZID=America/Detroit:20260323T183000
DTEND;TZID=America/Detroit:20260323T193000
DTSTAMP:20260420T191210
CREATED:20260227T170823Z
LAST-MODIFIED:20260327T195016Z
UID:10001351-1774290600-1774294200@www.fspl.org
SUMMARY:Family Storytime (Franklin)
DESCRIPTION:Family storytime will be held at 6:30 p.m. Tuesdays\, January 6 – April 14\, at the Franklin Branch. \nFamily storytime is a 30- to 45-minute early literacy program that includes songs\, rhymes\, stories\, and an art activity or craft. \nMost activities are designed for toddlers and preschool-age children\, but children of all ages are invited to attend family storytime. The activities will help build pre-literacy skills and foster children’s love of books!
URL:https://www.fspl.org/event/family-storytime-franklin-3/2026-03-23/
LOCATION:Franklin Library\, 44 East 4th Street\, Franklin\, OH\, 45005\, United States
CATEGORIES:Storytimes
ATTACH;FMTTYPE=image/jpeg:https://www.fspl.org/wp-content/uploads/2026/03/storytime.jpg
END:VEVENT
BEGIN:VEVENT
DTSTART;TZID=America/Detroit:20260316T183000
DTEND;TZID=America/Detroit:20260316T193000
DTSTAMP:20260420T191210
CREATED:20260227T170823Z
LAST-MODIFIED:20260327T195016Z
UID:10001350-1773685800-1773689400@www.fspl.org
SUMMARY:Family Storytime (Franklin)
DESCRIPTION:Family storytime will be held at 6:30 p.m. Tuesdays\, January 6 – April 14\, at the Franklin Branch. \nFamily storytime is a 30- to 45-minute early literacy program that includes songs\, rhymes\, stories\, and an art activity or craft. \nMost activities are designed for toddlers and preschool-age children\, but children of all ages are invited to attend family storytime. The activities will help build pre-literacy skills and foster children’s love of books!
URL:https://www.fspl.org/event/family-storytime-franklin-3/2026-03-16/
LOCATION:Franklin Library\, 44 East 4th Street\, Franklin\, OH\, 45005\, United States
CATEGORIES:Storytimes
ATTACH;FMTTYPE=image/jpeg:https://www.fspl.org/wp-content/uploads/2026/03/storytime.jpg
END:VEVENT
BEGIN:VEVENT
DTSTART;TZID=America/Detroit:20260309T183000
DTEND;TZID=America/Detroit:20260309T193000
DTSTAMP:20260420T191210
CREATED:20260227T170823Z
LAST-MODIFIED:20260327T195016Z
UID:10001349-1773081000-1773084600@www.fspl.org
SUMMARY:Family Storytime (Franklin)
DESCRIPTION:Family storytime will be held at 6:30 p.m. Tuesdays\, January 6 – April 14\, at the Franklin Branch. \nFamily storytime is a 30- to 45-minute early literacy program that includes songs\, rhymes\, stories\, and an art activity or craft. \nMost activities are designed for toddlers and preschool-age children\, but children of all ages are invited to attend family storytime. The activities will help build pre-literacy skills and foster children’s love of books!
URL:https://www.fspl.org/event/family-storytime-franklin-3/2026-03-09/
LOCATION:Franklin Library\, 44 East 4th Street\, Franklin\, OH\, 45005\, United States
CATEGORIES:Storytimes
ATTACH;FMTTYPE=image/jpeg:https://www.fspl.org/wp-content/uploads/2026/03/storytime.jpg
END:VEVENT
END:VCALENDAR