BEGIN:VCALENDAR
VERSION:2.0
PRODID:-//Franklin-Springboro Public Library - ECPv6.15.20//NONSGML v1.0//EN
CALSCALE:GREGORIAN
METHOD:PUBLISH
X-WR-CALNAME:Franklin-Springboro Public Library
X-ORIGINAL-URL:https://www.fspl.org
X-WR-CALDESC:Events for Franklin-Springboro Public Library
REFRESH-INTERVAL;VALUE=DURATION:PT1H
X-Robots-Tag:noindex
X-PUBLISHED-TTL:PT1H
BEGIN:VTIMEZONE
TZID:America/Detroit
BEGIN:DAYLIGHT
TZOFFSETFROM:-0500
TZOFFSETTO:-0400
TZNAME:EDT
DTSTART:20250309T070000
END:DAYLIGHT
BEGIN:STANDARD
TZOFFSETFROM:-0400
TZOFFSETTO:-0500
TZNAME:EST
DTSTART:20251102T060000
END:STANDARD
BEGIN:DAYLIGHT
TZOFFSETFROM:-0500
TZOFFSETTO:-0400
TZNAME:EDT
DTSTART:20260308T070000
END:DAYLIGHT
BEGIN:STANDARD
TZOFFSETFROM:-0400
TZOFFSETTO:-0500
TZNAME:EST
DTSTART:20261101T060000
END:STANDARD
BEGIN:DAYLIGHT
TZOFFSETFROM:-0500
TZOFFSETTO:-0400
TZNAME:EDT
DTSTART:20270314T070000
END:DAYLIGHT
BEGIN:STANDARD
TZOFFSETFROM:-0400
TZOFFSETTO:-0500
TZNAME:EST
DTSTART:20271107T060000
END:STANDARD
END:VTIMEZONE
BEGIN:VEVENT
DTSTART;TZID=America/Detroit:20260625T103000
DTEND;TZID=America/Detroit:20260625T110000
DTSTAMP:20260420T222342
CREATED:20260216T160643Z
LAST-MODIFIED:20260327T192655Z
UID:10001139-1782383400-1782385200@www.fspl.org
SUMMARY:Toddler Storytime (Springboro)
DESCRIPTION:Join us for songs\, stories\, learning\, and fun! Storytime is a great place to build pre-literacy skills and to foster your child’s love of books! We hope to see you at storytime this week! \n\nToddler Storytime features songs and stories for children ages 18 months to 3 years.\nRegistration is not required for storytimes.\nChoose one session per week to attend. Your day may vary from week to week.\nProgramming is subject to change. Check the library website\, fspl.org\, and social media outlets for updates.\nCaregivers must remain with children throughout storytime\, and caregivers are responsible for their children’s behavior at all times.\nCaregiver should step into the hallway with their child if their child feels overwhelmed or exhibits disruptive or unsafe behaviors. Caregiver and child may return when the child is ready.\nStorytime is a snack-free zone.\n\nHow to make the most out of storytime: \n\nArrive on time or a few minutes early.\nEncourage your child to be a good listener.\nEncourage your child to join in\, but don’t force participation. Many children enjoy and benefit from just watching.\nWhen caregivers participate in storytime\, it models good behavior and makes storytime fun! Please silence your phones\, save conversations for later\, and enjoy this special time with your child.
URL:https://www.fspl.org/event/toddler-storytime-springboro-4/2026-06-25/
LOCATION:Springboro Library\, 125 Park Lane\, Springboro\, OH\, 45066\, United States
CATEGORIES:Storytimes
ATTACH;FMTTYPE=image/jpeg:https://www.fspl.org/wp-content/uploads/2026/03/storytime.jpg
END:VEVENT
END:VCALENDAR