BEGIN:VCALENDAR
VERSION:2.0
PRODID:-//Franklin-Springboro Public Library - ECPv6.15.20//NONSGML v1.0//EN
CALSCALE:GREGORIAN
METHOD:PUBLISH
X-WR-CALNAME:Franklin-Springboro Public Library
X-ORIGINAL-URL:https://www.fspl.org
X-WR-CALDESC:Events for Franklin-Springboro Public Library
REFRESH-INTERVAL;VALUE=DURATION:PT1H
X-Robots-Tag:noindex
X-PUBLISHED-TTL:PT1H
BEGIN:VTIMEZONE
TZID:America/Detroit
BEGIN:DAYLIGHT
TZOFFSETFROM:-0500
TZOFFSETTO:-0400
TZNAME:EDT
DTSTART:20250309T070000
END:DAYLIGHT
BEGIN:STANDARD
TZOFFSETFROM:-0400
TZOFFSETTO:-0500
TZNAME:EST
DTSTART:20251102T060000
END:STANDARD
BEGIN:DAYLIGHT
TZOFFSETFROM:-0500
TZOFFSETTO:-0400
TZNAME:EDT
DTSTART:20260308T070000
END:DAYLIGHT
BEGIN:STANDARD
TZOFFSETFROM:-0400
TZOFFSETTO:-0500
TZNAME:EST
DTSTART:20261101T060000
END:STANDARD
BEGIN:DAYLIGHT
TZOFFSETFROM:-0500
TZOFFSETTO:-0400
TZNAME:EDT
DTSTART:20270314T070000
END:DAYLIGHT
BEGIN:STANDARD
TZOFFSETFROM:-0400
TZOFFSETTO:-0500
TZNAME:EST
DTSTART:20271107T060000
END:STANDARD
END:VTIMEZONE
BEGIN:VEVENT
DTSTART;TZID=America/Detroit:20260707T113000
DTEND;TZID=America/Detroit:20260707T120000
DTSTAMP:20260421T002214
CREATED:20260216T171241Z
LAST-MODIFIED:20260327T155003Z
UID:4556-1783423800-1783425600@www.fspl.org
SUMMARY:River City Puppets presents The Hungry\, Hungry Bookworm (Springboro)
DESCRIPTION:The library has a Bookworm on the loose\, and it’s gobbling up all the delicious stories right out of the books. Books\, puppets\, storytelling\, and music come together to save the irresistible tales from the Bookworm. Join us at the Springboro Branch for one of four available show times Tuesday\, July 7: 9:30 a.m.\, 11:30 a.m.\, 1:30 p.m.\, and 3:30 p.m. Ages 3-12\, registration is not required.
URL:https://www.fspl.org/event/river-city-puppets-presents-the-hungry-hungry-bookworm-2/
LOCATION:Springboro Library\, 125 Park Lane\, Springboro\, OH\, 45066\, United States
CATEGORIES:Children's Programs
ATTACH;FMTTYPE=image/jpeg:https://www.fspl.org/wp-content/uploads/2026/03/kids-jpg.jpg
END:VEVENT
END:VCALENDAR