BEGIN:VCALENDAR
VERSION:2.0
PRODID:-//Franklin-Springboro Public Library - ECPv6.15.20//NONSGML v1.0//EN
CALSCALE:GREGORIAN
METHOD:PUBLISH
X-WR-CALNAME:Franklin-Springboro Public Library
X-ORIGINAL-URL:https://www.fspl.org
X-WR-CALDESC:Events for Franklin-Springboro Public Library
REFRESH-INTERVAL;VALUE=DURATION:PT1H
X-Robots-Tag:noindex
X-PUBLISHED-TTL:PT1H
BEGIN:VTIMEZONE
TZID:America/Detroit
BEGIN:DAYLIGHT
TZOFFSETFROM:-0500
TZOFFSETTO:-0400
TZNAME:EDT
DTSTART:20250309T070000
END:DAYLIGHT
BEGIN:STANDARD
TZOFFSETFROM:-0400
TZOFFSETTO:-0500
TZNAME:EST
DTSTART:20251102T060000
END:STANDARD
BEGIN:DAYLIGHT
TZOFFSETFROM:-0500
TZOFFSETTO:-0400
TZNAME:EDT
DTSTART:20260308T070000
END:DAYLIGHT
BEGIN:STANDARD
TZOFFSETFROM:-0400
TZOFFSETTO:-0500
TZNAME:EST
DTSTART:20261101T060000
END:STANDARD
BEGIN:DAYLIGHT
TZOFFSETFROM:-0500
TZOFFSETTO:-0400
TZNAME:EDT
DTSTART:20270314T070000
END:DAYLIGHT
BEGIN:STANDARD
TZOFFSETFROM:-0400
TZOFFSETTO:-0500
TZNAME:EST
DTSTART:20271107T060000
END:STANDARD
END:VTIMEZONE
BEGIN:VEVENT
DTSTART;TZID=America/Detroit:20260317T140000
DTEND;TZID=America/Detroit:20260317T153000
DTSTAMP:20260420T223453
CREATED:20260227T162805Z
LAST-MODIFIED:20260227T162805Z
UID:4749-1773756000-1773761400@www.fspl.org
SUMMARY:Homeschool Project Zone (Franklin)
DESCRIPTION:Registration for this program is currently full\, but we encourage you to add your name to the waiting list. \nCalling all homeschoolers ages 5-12! Join us for fun and educational projects at the library. This winter and spring\, we are learning all about our amazing national parks\, and each month’s meeting will feature new activities. Caregivers must remain with their children throughout the program. Siblings outside of the age range are welcome at homeschool meetings and will be able to participate in the activities when sufficient supplies are available.
URL:https://www.fspl.org/event/homeschool-project-zone-franklin/
CATEGORIES:Children's Programs
END:VEVENT
END:VCALENDAR