BEGIN:VCALENDAR
VERSION:2.0
PRODID:-//Franklin-Springboro Public Library - ECPv6.15.20//NONSGML v1.0//EN
CALSCALE:GREGORIAN
METHOD:PUBLISH
X-WR-CALNAME:Franklin-Springboro Public Library
X-ORIGINAL-URL:https://www.fspl.org
X-WR-CALDESC:Events for Franklin-Springboro Public Library
REFRESH-INTERVAL;VALUE=DURATION:PT1H
X-Robots-Tag:noindex
X-PUBLISHED-TTL:PT1H
BEGIN:VTIMEZONE
TZID:America/Detroit
BEGIN:DAYLIGHT
TZOFFSETFROM:-0500
TZOFFSETTO:-0400
TZNAME:EDT
DTSTART:20250309T070000
END:DAYLIGHT
BEGIN:STANDARD
TZOFFSETFROM:-0400
TZOFFSETTO:-0500
TZNAME:EST
DTSTART:20251102T060000
END:STANDARD
BEGIN:DAYLIGHT
TZOFFSETFROM:-0500
TZOFFSETTO:-0400
TZNAME:EDT
DTSTART:20260308T070000
END:DAYLIGHT
BEGIN:STANDARD
TZOFFSETFROM:-0400
TZOFFSETTO:-0500
TZNAME:EST
DTSTART:20261101T060000
END:STANDARD
BEGIN:DAYLIGHT
TZOFFSETFROM:-0500
TZOFFSETTO:-0400
TZNAME:EDT
DTSTART:20270314T070000
END:DAYLIGHT
BEGIN:STANDARD
TZOFFSETFROM:-0400
TZOFFSETTO:-0500
TZNAME:EST
DTSTART:20271107T060000
END:STANDARD
END:VTIMEZONE
BEGIN:VEVENT
DTSTART;TZID=America/Detroit:20260617T133000
DTEND;TZID=America/Detroit:20260617T150000
DTSTAMP:20260420T190940
CREATED:20260216T180249Z
LAST-MODIFIED:20260327T160049Z
UID:4582-1781703000-1781708400@www.fspl.org
SUMMARY:Beginner's Embroidery (Franklin)
DESCRIPTION:Get thready to learn something new! Join us on June 17th and 18th from 1:30-3pm at the Franklin Branch each day for our beginner embroidery lessons! Jesy Anderson from the Kettering based business Needle\, Ink\, and Thread will be teaching a two-day class for beginners where teens will learn the basic stitches on the first day and have the opportunity to bring in a garment to embroider themselves during the second! All embroidery materials will be provided for so you’ll only need to bring yourself\, an item you’d like embroidered and your crafting spirit! Registration begins Friday\, May 1. Call the library at (937) 746-2265 or stop by the front desk to sign up.
URL:https://www.fspl.org/event/beginners-embroidery/
LOCATION:Franklin Library\, 44 East 4th Street\, Franklin\, OH\, 45005\, United States
CATEGORIES:Teen Programs
ATTACH;FMTTYPE=image/jpeg:https://www.fspl.org/wp-content/uploads/2026/03/teen.jpg
END:VEVENT
END:VCALENDAR