BEGIN:VCALENDAR
VERSION:2.0
PRODID:-//Franklin-Springboro Public Library - ECPv6.15.20//NONSGML v1.0//EN
CALSCALE:GREGORIAN
METHOD:PUBLISH
X-WR-CALNAME:Franklin-Springboro Public Library
X-ORIGINAL-URL:https://www.fspl.org
X-WR-CALDESC:Events for Franklin-Springboro Public Library
REFRESH-INTERVAL;VALUE=DURATION:PT1H
X-Robots-Tag:noindex
X-PUBLISHED-TTL:PT1H
BEGIN:VTIMEZONE
TZID:America/Detroit
BEGIN:DAYLIGHT
TZOFFSETFROM:-0500
TZOFFSETTO:-0400
TZNAME:EDT
DTSTART:20250309T070000
END:DAYLIGHT
BEGIN:STANDARD
TZOFFSETFROM:-0400
TZOFFSETTO:-0500
TZNAME:EST
DTSTART:20251102T060000
END:STANDARD
BEGIN:DAYLIGHT
TZOFFSETFROM:-0500
TZOFFSETTO:-0400
TZNAME:EDT
DTSTART:20260308T070000
END:DAYLIGHT
BEGIN:STANDARD
TZOFFSETFROM:-0400
TZOFFSETTO:-0500
TZNAME:EST
DTSTART:20261101T060000
END:STANDARD
BEGIN:DAYLIGHT
TZOFFSETFROM:-0500
TZOFFSETTO:-0400
TZNAME:EDT
DTSTART:20270314T070000
END:DAYLIGHT
BEGIN:STANDARD
TZOFFSETFROM:-0400
TZOFFSETTO:-0500
TZNAME:EST
DTSTART:20271107T060000
END:STANDARD
END:VTIMEZONE
BEGIN:VEVENT
DTSTART;TZID=America/Detroit:20260727T093000
DTEND;TZID=America/Detroit:20260727T100000
DTSTAMP:20260420T222112
CREATED:20260409T180842Z
LAST-MODIFIED:20260409T180842Z
UID:8452-1785144600-1785146400@www.fspl.org
SUMMARY:Baby Storytime (Springboro)
DESCRIPTION:Baby storytime will be held at 9:30 a.m. Mondays\, January 5 – April 13\, at the Springboro Branch. \nBaby storytime is a 25-minute early literacy program that includes songs\, rhymes\, stories\, toys\, and bubbles. \nBaby storytime is recommended for children ages 6-18 months.
URL:https://www.fspl.org/event/baby-storytime-springboro-10/
LOCATION:Springboro Library\, 125 Park Lane\, Springboro\, OH\, 45066\, United States
CATEGORIES:Storytimes
ATTACH;FMTTYPE=image/jpeg:https://www.fspl.org/wp-content/uploads/2026/03/storytime.jpg
END:VEVENT
END:VCALENDAR